BEGIN:VCALENDAR
VERSION:2.0
PRODID:-//Squarespace Inc/Squarespace 6//v6//EN
BEGIN:VEVENT
UID:5def6939c4c5ef230174eb74@squarespace.com
DTSTAMP:20191217T000457Z
DTSTART:20200402T223000Z
DTEND:20200403T053000Z
SUMMARY:Last Day of Term 1
END:VEVENT
END:VCALENDAR
