BEGIN:VCALENDAR
VERSION:2.0
PRODID:-//Squarespace Inc/Squarespace 6//v6//EN
BEGIN:VEVENT
UID:5df856492969387e13e9f3a4@squarespace.com
DTSTAMP:20200210T222140Z
DTSTART:20200303T080000Z
DTEND:20200303T110000Z
SUMMARY:Secondary Swimming Carnival
END:VEVENT
END:VCALENDAR
