BEGIN:VCALENDAR
VERSION:2.0
PRODID:-//Squarespace Inc/Squarespace 6//v6//EN
BEGIN:VEVENT
UID:5def69c85cb2154c11e4a19f@squarespace.com
DTSTAMP:20191210T094835Z
DTSTART:20200320T220000Z
DTEND:20200321T020000Z
SUMMARY:Working Bee
END:VEVENT
END:VCALENDAR
