BEGIN:VCALENDAR
VERSION:2.0
PRODID:-//Squarespace Inc/Squarespace 6//v6//EN
BEGIN:VEVENT
UID:5df854f984bb8c1cff8a8d95@squarespace.com
DTSTAMP:20200210T222129Z
DTSTART:20200227T080000Z
DTEND:20200227T110000Z
SUMMARY:Primary Swimming Carnival
END:VEVENT
END:VCALENDAR
