BEGIN:VCALENDAR
VERSION:2.0
PRODID:-//Squarespace Inc/Squarespace 6//v6//EN
BEGIN:VEVENT
UID:5def67b9c143057cf4d18b65@squarespace.com
DTSTAMP:20191210T094003Z
DTSTART:20200127T223000Z
DTEND:20200128T050000Z
SUMMARY:First Day of Term 1
END:VEVENT
END:VCALENDAR
