BEGIN:VCALENDAR
VERSION:2.0
PRODID:-//Squarespace Inc/Squarespace 6//v6//EN
BEGIN:VEVENT
UID:5def6850c143057cf4d1950c@squarespace.com
DTSTAMP:20200119T110220Z
DTSTART:20200126T140100Z
DTEND:20200127T135900Z
SUMMARY:Australia Day Public Holiday
END:VEVENT
END:VCALENDAR
