BEGIN:VCALENDAR
VERSION:2.0
PRODID:-//Squarespace Inc/Squarespace 6//v6//EN
BEGIN:VEVENT
UID:5def673dc143057cf4d18251@squarespace.com
DTSTAMP:20191210T093756Z
DTSTART:20200112T230000Z
DTEND:20200113T070000Z
SUMMARY:Office Opens
END:VEVENT
END:VCALENDAR
