BEGIN:VCALENDAR
VERSION:2.0
PRODID:-//Squarespace Inc/Squarespace 6//v6//EN
BEGIN:VEVENT
UID:5c4ff6dd2b6a28ac2f581441@squarespace.com
DTSTAMP:20190129T064802Z
DTSTART:20190906T073000Z
DTEND:20190906T100000Z
SUMMARY:Community Fair
GEO:-19.175487;146.604989
LOCATION:Townsville Christian College\, 210 Palmerston Street\, Vincent\, Q
 LD\, 4814\, Australia
END:VEVENT
END:VCALENDAR
