BEGIN:VCALENDAR
VERSION:2.0
PRODID:-//Squarespace Inc/Squarespace 6//v6//EN
BEGIN:VEVENT
UID:5c4ffc7242bfc1226f3244b0@squarespace.com
DTSTAMP:20190926T040207Z
DTSTART:20190922T140000Z
DTEND:20191006T135900Z
SUMMARY:School Holidays
END:VEVENT
END:VCALENDAR
