BEGIN:VCALENDAR
VERSION:2.0
PRODID:-//Squarespace Inc/Squarespace 6//v6//EN
BEGIN:VEVENT
UID:5c4ffc3042bfc1226f3242f0@squarespace.com
DTSTAMP:20190129T071024Z
DTSTART:20190919T223000Z
DTEND:20190920T050500Z
SUMMARY:Last Day of Term 3
GEO:-19.175487;146.604989
LOCATION:Townsville Christian College\, 210 Palmerston Street\, Vincent\, Q
 LD\, 4814\, Australia
END:VEVENT
END:VCALENDAR
