BEGIN:VCALENDAR
VERSION:2.0
PRODID:-//Squarespace Inc/Squarespace 6//v6//EN
BEGIN:VEVENT
UID:5c4ff37baa4a990c63cfdb8e@squarespace.com
DTSTAMP:20190129T064917Z
DTSTART:20190823T220000Z
DTEND:20190824T020000Z
SUMMARY:Working Bee Term 3
GEO:-19.175487;146.604989
LOCATION:Townsville Christian College\, 210 Palmerston Street\, Vincent\, Q
 LD\, 4814\, Australia
END:VEVENT
END:VCALENDAR
