BEGIN:VCALENDAR
VERSION:2.0
PRODID:-//Squarespace Inc/Squarespace 6//v6//EN
BEGIN:VEVENT
UID:5c4ffa41b8a045c91dbe81aa@squarespace.com
DTSTAMP:20190129T070158Z
DTSTART:20190701T140000Z
DTEND:20190712T135900Z
SUMMARY:School Holidays
END:VEVENT
END:VCALENDAR
