BEGIN:VCALENDAR
VERSION:2.0
PRODID:-//Squarespace Inc/Squarespace 6//v6//EN
BEGIN:VEVENT
UID:5c4ffbc54d7a9c10de7f9269@squarespace.com
DTSTAMP:20190129T070922Z
DTSTART:20190715T073000Z
DTEND:20190715T083000Z
SUMMARY:First Day of Term 3
GEO:-19.175487;146.604989
LOCATION:Townsville Christian College\, 210 Palmerston Street\, Vincent\, Q
 LD\, 4814\, Australia
END:VEVENT
END:VCALENDAR
