BEGIN:VCALENDAR
VERSION:2.0
PRODID:-//Squarespace Inc/Squarespace 6//v6//EN
BEGIN:VEVENT
UID:5c4ff3087924e85a6ddb0330@squarespace.com
DTSTAMP:20190129T063110Z
DTSTART:20190701T020000Z
DTEND:20190701T135900Z
SUMMARY:Show Day
END:VEVENT
END:VCALENDAR
