BEGIN:VCALENDAR
VERSION:2.0
PRODID:-//Squarespace Inc/Squarespace 6//v6//EN
BEGIN:VEVENT
UID:5c4ff9aab8a045c91dbe7df2@squarespace.com
DTSTAMP:20190129T070053Z
DTSTART:20190628T140000Z
DTEND:20190630T135900Z
SUMMARY:School Holidays
END:VEVENT
END:VCALENDAR
