BEGIN:VCALENDAR
VERSION:2.0
PRODID:-//Squarespace Inc/Squarespace 6//v6//EN
BEGIN:VEVENT
UID:5c4ff915b8a045c91dbe7a31@squarespace.com
DTSTAMP:20190129T065742Z
DTSTART:20190627T223000Z
DTEND:20190628T050500Z
SUMMARY:Last Day of Term 2
END:VEVENT
END:VCALENDAR
