BEGIN:VCALENDAR
VERSION:2.0
PRODID:-//Squarespace Inc/Squarespace 6//v6//EN
BEGIN:VEVENT
UID:5c593d8d0d9297f0d3d32d9f@squarespace.com
DTSTAMP:20190205T074039Z
DTSTART:20190610T223000Z
DTEND:20190611T050500Z
SUMMARY:Celebration Day
GEO:-19.175487;146.604989
LOCATION:Townsville Christian College\, 210 Palmerston Street\, Vincent\, Q
 LD\, 4814\, Australia
END:VEVENT
END:VCALENDAR
