BEGIN:VCALENDAR
VERSION:2.0
PRODID:-//Squarespace Inc/Squarespace 6//v6//EN
BEGIN:VEVENT
UID:5c593af9eb39315f46438e09@squarespace.com
DTSTAMP:20190205T073154Z
DTSTART:20190506T140000Z
DTEND:20190507T135900Z
SUMMARY:Inter-School Primary Cross Country Carnival
GEO:-19.284471;146.804764
LOCATION:Bicentennial Park\, 26 Sooning Street\, Hermit Park\, QLD\, 4812\, 
 Australia
END:VEVENT
END:VCALENDAR
