BEGIN:VCALENDAR
VERSION:2.0
PRODID:-//Squarespace Inc/Squarespace 6//v6//EN
BEGIN:VEVENT
UID:5c4feef66d2a73a6c8abe8d0@squarespace.com
DTSTAMP:20190129T061358Z
DTSTART:20190505T140000Z
DTEND:20190506T135900Z
SUMMARY:Labour Day
END:VEVENT
END:VCALENDAR
