BEGIN:VCALENDAR
VERSION:2.0
PRODID:-//Squarespace Inc/Squarespace 6//v6//EN
BEGIN:VEVENT
UID:5c593c4953450a06427dacf8@squarespace.com
DTSTAMP:20190205T073512Z
DTSTART:20190527T140000Z
DTEND:20190528T135900Z
SUMMARY:Inter-School Secondary Cross Country
GEO:36.840055;-94.343669
LOCATION:Bicentennial Park\, 26 Sooning Street\, Hermit Park\, QLD\, 4812\, 
 Australia
END:VEVENT
END:VCALENDAR
