BEGIN:VCALENDAR
VERSION:2.0
PRODID:-//Squarespace Inc/Squarespace 6//v6//EN
BEGIN:VEVENT
UID:5c593cbe8165f5a37e3e560f@squarespace.com
DTSTAMP:20190205T073801Z
DTSTART:20190513T223000Z
DTEND:20190516T050500Z
SUMMARY:NAPLAN
GEO:-19.175487;146.604989
LOCATION:Townsville Christian College\, 210 Palmerston Street\, Vincent\, Q
 LD\, 4814\, Australia
END:VEVENT
END:VCALENDAR
