BEGIN:VCALENDAR
VERSION:2.0
PRODID:-//Squarespace Inc/Squarespace 6//v6//EN
BEGIN:VEVENT
UID:5c593e5f1905f437a9c141da@squarespace.com
DTSTAMP:20190205T074513Z
DTSTART:20190509T223000Z
DTEND:20190510T050500Z
SUMMARY:Athletics Carnival
GEO:-19.251756;146.806617
LOCATION:Queens Park\, Burke Street\, North Ward\, QLD\, 4810\, Australia
END:VEVENT
END:VCALENDAR
