BEGIN:VCALENDAR
VERSION:2.0
PRODID:-//Squarespace Inc/Squarespace 6//v6//EN
BEGIN:VEVENT
UID:5c4fecca40ec9aca1fe3dbc6@squarespace.com
DTSTAMP:20190129T062738Z
DTSTART:20190405T140000Z
DTEND:20190418T015900Z
SUMMARY:School Holidays
END:VEVENT
END:VCALENDAR
