BEGIN:VCALENDAR
VERSION:2.0
PRODID:-//Squarespace Inc/Squarespace 6//v6//EN
BEGIN:VEVENT
UID:5c4fec154fa51ae512c44583@squarespace.com
DTSTAMP:20190129T060332Z
DTSTART:20190404T223000Z
DTEND:20190405T050500Z
SUMMARY:Last Day of Term 1
END:VEVENT
END:VCALENDAR
