BEGIN:VCALENDAR
VERSION:2.0
PRODID:-//Squarespace Inc/Squarespace 6//v6//EN
BEGIN:VEVENT
UID:5c5937aa4192024193eae119@squarespace.com
DTSTAMP:20190205T073316Z
DTSTART:20190429T223000Z
DTEND:20190430T050500Z
SUMMARY:Cross Country Carnival
GEO:-19.162482;146.84649
LOCATION:Bicentennial Park\, 26 Sooning Street\, Hermit Park\, QLD\, 4812\, 
 Australia
END:VEVENT
END:VCALENDAR
