BEGIN:VCALENDAR
VERSION:2.0
PRODID:-//Squarespace Inc/Squarespace 6//v6//EN
BEGIN:VEVENT
UID:5c4fed8fc74c505e5ba101ee@squarespace.com
DTSTAMP:20190129T060934Z
DTSTART:20190424T140000Z
DTEND:20190425T135900Z
SUMMARY:ANZAC Day
END:VEVENT
END:VCALENDAR
