BEGIN:VCALENDAR
VERSION:2.0
PRODID:-//Squarespace Inc/Squarespace 6//v6//EN
BEGIN:VEVENT
UID:5c4ff8bdc2241bf9778494c6@squarespace.com
DTSTAMP:20190129T065609Z
DTSTART:20190422T223000Z
DTEND:20190423T050500Z
SUMMARY:First Day of Term 2
GEO:-19.175487;146.604989
LOCATION:Townsville Christian College\, 210 Palmerston Street\, Vincent\, Q
 LD\, 4814\, Australia
END:VEVENT
END:VCALENDAR
