BEGIN:VCALENDAR
VERSION:2.0
PRODID:-//Squarespace Inc/Squarespace 6//v6//EN
BEGIN:VEVENT
UID:5c4fef494d7a9c10de7f3f21@squarespace.com
DTSTAMP:20190129T061639Z
DTSTART:20190418T140000Z
DTEND:20190422T135900Z
SUMMARY:Easter Long Weekend
END:VEVENT
END:VCALENDAR
