BEGIN:VCALENDAR
VERSION:2.0
PRODID:-//Squarespace Inc/Squarespace 6//v6//EN
BEGIN:VEVENT
UID:5c5936a271c10b30f3870000@squarespace.com
DTSTAMP:20190205T071140Z
DTSTART:20190325T140000Z
DTEND:20190328T135900Z
SUMMARY:Parent / Teacher Interviews
GEO:-19.175487;146.604989
LOCATION:Townsville Christian College\, 210 Palmerston Street\, Vincent\, Q
 LD\, 4814\, Australia
END:VEVENT
END:VCALENDAR
