BEGIN:VCALENDAR
VERSION:2.0
PRODID:-//Squarespace Inc/Squarespace 6//v6//EN
BEGIN:VEVENT
UID:5c593422104c7bf3fe7b2d92@squarespace.com
DTSTAMP:20190205T065941Z
DTSTART:20190318T223000Z
DTEND:20190319T050500Z
SUMMARY:Celebration Day
GEO:-19.28139;146.766491
LOCATION:Townsville Christian College\, 210 Palmerston Street\, Vincent\, Q
 LD\, 4814\, Australia
END:VEVENT
END:VCALENDAR
