BEGIN:VCALENDAR
VERSION:2.0
PRODID:-//Squarespace Inc/Squarespace 6//v6//EN
BEGIN:VEVENT
UID:5c5936036e9a7f0c422fb7b3@squarespace.com
DTSTAMP:20190205T070826Z
DTSTART:20190317T140000Z
DTEND:20190318T135900Z
SUMMARY:Inter-school Primary Swimming Carnival
END:VEVENT
END:VCALENDAR
