BEGIN:VCALENDAR
VERSION:2.0
PRODID:-//Squarespace Inc/Squarespace 6//v6//EN
BEGIN:VEVENT
UID:5c59346d104c7bf3fe7b2f4d@squarespace.com
DTSTAMP:20190205T070620Z
DTSTART:20190314T140000Z
DTEND:20190315T135900Z
SUMMARY:Inter-school Secondary Swimming Carnival
END:VEVENT
END:VCALENDAR
