BEGIN:VCALENDAR
VERSION:2.0
PRODID:-//Squarespace Inc/Squarespace 6//v6//EN
BEGIN:VEVENT
UID:5c4fea662b6a28ac2f57bba6@squarespace.com
DTSTAMP:20190129T060019Z
DTSTART:20190221T080000Z
DTEND:20190221T100000Z
SUMMARY:Swimming Carnival
GEO:-19.311273;146.735845
LOCATION:Kirwan Aquatic Centre\, Hudson Street & Neptune Street\, Kirwan\, 
 QLD\, 4817\, Australia
END:VEVENT
END:VCALENDAR
