BEGIN:VCALENDAR
VERSION:2.0
PRODID:-//Squarespace Inc/Squarespace 6//v6//EN
BEGIN:VEVENT
UID:5c4ffd4740ec9aca1fe44e55@squarespace.com
DTSTAMP:20190129T073304Z
DTSTART:20191205T223000Z
DTEND:20191206T050500Z
SUMMARY:Last Day of Term 4
GEO:-19.175487;146.604989
LOCATION:Townsville Christian College\, 210 Palmerston Street\, Vincent\, Q
 LD\, 4814\, Australia
END:VEVENT
END:VCALENDAR
