BEGIN:VCALENDAR
VERSION:2.0
PRODID:-//Squarespace Inc/Squarespace 6//v6//EN
BEGIN:VEVENT
UID:5c4ff3d84fa51ae512c47b5e@squarespace.com
DTSTAMP:20190927T020522Z
DTSTART:20191128T083000Z
DTEND:20191128T103000Z
SUMMARY:TCC Awards Night (Yrs 3-10)
GEO:-19.175487;146.604989
LOCATION:Life Church Townsville\, 153 Dalrymple Road\, Garbutt\, QLD\, 4814
 \, Australia
END:VEVENT
END:VCALENDAR
