BEGIN:VCALENDAR
VERSION:2.0
PRODID:-//Squarespace Inc/Squarespace 6//v6//EN
BEGIN:VEVENT
UID:5dd376b776d4226b2a7d49d1@squarespace.com
DTSTAMP:20191119T050342Z
DTSTART:20191126T000000Z
DTEND:20191126T010000Z
SUMMARY:TCC Awards Day - Junior School (Prep-2)
END:VEVENT
END:VCALENDAR
