BEGIN:VCALENDAR
VERSION:2.0
PRODID:-//Squarespace Inc/Squarespace 6//v6//EN
BEGIN:VEVENT
UID:5c4ff47a352f530febbae1e5@squarespace.com
DTSTAMP:20190129T064959Z
DTSTART:20191121T084500Z
DTEND:20191121T110000Z
SUMMARY:Year 6 Dinner
GEO:-19.175487;146.604989
LOCATION:Life Church Townsville\, 153 Dalrymple Road\, Garbutt\, QLD\, 4814
 \, Australia
END:VEVENT
END:VCALENDAR
