BEGIN:VCALENDAR
VERSION:2.0
PRODID:-//Squarespace Inc/Squarespace 6//v6//EN
BEGIN:VEVENT
UID:5c4ff3a3cd836671e4b698c7@squarespace.com
DTSTAMP:20190926T040030Z
DTSTART:20191115T220000Z
DTEND:20191116T020000Z
SUMMARY:Working Bee Term 4
END:VEVENT
END:VCALENDAR
