BEGIN:VCALENDAR
VERSION:2.0
PRODID:-//Squarespace Inc/Squarespace 6//v6//EN
BEGIN:VEVENT
UID:5d8d6604e7cc9e6a0cbdb7f8@squarespace.com
DTSTAMP:20190927T020200Z
DTSTART:20191110T223000Z
DTEND:20191113T050000Z
SUMMARY:Secondary Camp
GEO:-19.135865;146.842356
LOCATION:Magnetic Island
END:VEVENT
END:VCALENDAR
