BEGIN:VCALENDAR
VERSION:2.0
PRODID:-//Squarespace Inc/Squarespace 6//v6//EN
BEGIN:VEVENT
UID:5c4ffcb06d2a73a6c8ac4780@squarespace.com
DTSTAMP:20190129T071312Z
DTSTART:20191007T223000Z
DTEND:20191008T050500Z
SUMMARY:First Day of Term 4
GEO:-19.175487;146.604989
LOCATION:Townsville Christian College\, 210 Palmerston Street\, Vincent\, Q
 LD\, 4814\, Australia
END:VEVENT
END:VCALENDAR
