BEGIN:VCALENDAR
VERSION:2.0
PRODID:-//Squarespace Inc/Squarespace 6//v6//EN
BEGIN:VEVENT
UID:5c4ff6a1562fa7af6ea4cf50@squarespace.com
DTSTAMP:20190129T064645Z
DTSTART:20191006T140000Z
DTEND:20191007T135900Z
SUMMARY:Queen's Birthday
END:VEVENT
END:VCALENDAR
