BEGIN:VCALENDAR
VERSION:2.0
PRODID:-//Squarespace Inc/Squarespace 6//v6//EN
BEGIN:VEVENT
UID:5c4ff29c4ae237b6d9c65534@squarespace.com
DTSTAMP:20190129T062950Z
DTSTART:20191020T223000Z
DTEND:20191021T050500Z
SUMMARY:Student Free Day
END:VEVENT
END:VCALENDAR
