BEGIN:VCALENDAR
VERSION:2.0
PRODID:-//Squarespace Inc/Squarespace 6//v6//EN
BEGIN:VEVENT
UID:5a5709f7c8302558eff40d57@squarespace.com
DTSTAMP:20180821T020808Z
DTSTART:20180824T220000Z
DTEND:20180825T020000Z
SUMMARY:Working Bee - Term 3
END:VEVENT
END:VCALENDAR
