BEGIN:VCALENDAR
VERSION:2.0
PRODID:-//Squarespace Inc/Squarespace 6//v6//EN
BEGIN:VEVENT
UID:5a570cad24a694f00f47f663@squarespace.com
DTSTAMP:20180717T000533Z
DTSTART:20180918T223000Z
DTEND:20180921T050500Z
SUMMARY:Middle School Leadership Camp
END:VEVENT
END:VCALENDAR
