BEGIN:VCALENDAR
VERSION:2.0
PRODID:-//Squarespace Inc/Squarespace 6//v6//EN
BEGIN:VEVENT
UID:5a570c69085229f556c73b98@squarespace.com
DTSTAMP:20180717T002424Z
DTSTART:20180907T073000Z
DTEND:20180907T103000Z
SUMMARY:Community Fair
END:VEVENT
END:VCALENDAR
