BEGIN:VCALENDAR
VERSION:2.0
PRODID:-//Squarespace Inc/Squarespace 6//v6//EN
BEGIN:VEVENT
UID:5a570c0a085229f556c733eb@squarespace.com
DTSTAMP:20180111T070358Z
DTSTART:20180812T223000Z
DTEND:20180813T050500Z
SUMMARY:Inter-School Athletics Carnival
END:VEVENT
END:VCALENDAR
