BEGIN:VCALENDAR
VERSION:2.0
PRODID:-//Squarespace Inc/Squarespace 6//v6//EN
BEGIN:VEVENT
UID:5a570bb8652dea1b6cf55cb0@squarespace.com
DTSTAMP:20180112T015311Z
DTSTART:20180723T223000Z
DTEND:20180724T050500Z
SUMMARY:Athletics Carnival
END:VEVENT
END:VCALENDAR
