BEGIN:VCALENDAR
VERSION:2.0
PRODID:-//Squarespace Inc/Squarespace 6//v6//EN
BEGIN:VEVENT
UID:5a570b4c652dea1b6cf553f3@squarespace.com
DTSTAMP:20180111T070100Z
DTSTART:20180715T223000Z
DTEND:20180716T050500Z
SUMMARY:First Day of Term 3
END:VEVENT
END:VCALENDAR
