BEGIN:VCALENDAR
VERSION:2.0
PRODID:-//Squarespace Inc/Squarespace 6//v6//EN
BEGIN:VEVENT
UID:5a570ada8165f545d7271b13@squarespace.com
DTSTAMP:20180111T065910Z
DTSTART:20180622T140000Z
DTEND:20180715T135900Z
SUMMARY:School Holidays
END:VEVENT
END:VCALENDAR
