BEGIN:VCALENDAR
VERSION:2.0
PRODID:-//Squarespace Inc/Squarespace 6//v6//EN
BEGIN:VEVENT
UID:5a570a6b24a694f00f47c814@squarespace.com
DTSTAMP:20180111T065852Z
DTSTART:20180621T223000Z
DTEND:20180622T050500Z
SUMMARY:Last Day of Term 2
END:VEVENT
END:VCALENDAR
